BEGIN:VCALENDAR
VERSION:2.0
PRODID:-//Date iCal//NONSGML kigkonsult.se iCalcreator 2.20.2//
METHOD:PUBLISH
X-WR-CALNAME;VALUE=TEXT:Indiana-Kentucky Organizing Committee 962
BEGIN:VTIMEZONE
TZID:America/New_York
BEGIN:STANDARD
DTSTART:20171105T020000
TZOFFSETFROM:-0400
TZOFFSETTO:-0500
RDATE:20181104T020000,20191103T020000,20201101T020000,20211107T020000,20221
 106T020000
TZNAME:EST
END:STANDARD
BEGIN:DAYLIGHT
DTSTART:20180311T020000
TZOFFSETFROM:-0500
TZOFFSETTO:-0400
RDATE:20190310T020000,20200308T020000,20210314T020000,20220313T020000
TZNAME:EDT
END:DAYLIGHT
END:VTIMEZONE
BEGIN:VEVENT
UID:calendar.138794.field_oa_date.0@www.afscme962.org
DTSTAMP:20240226T042444Z
CREATED:20220328T151918Z
DESCRIPTION:Join AFSCME Indiana Members for a Labor to Labor walk for our V
 ery Own Union Sister Kristin Jones.
DTSTART;TZID=America/New_York:20220423T100000
DTEND;TZID=America/New_York:20220423T140000
LAST-MODIFIED:20220328T151918Z
LOCATION:AFL-CIO Indiana2917 Roosevelt AvenueIndianapoils\, Indiana 46218
SUMMARY:AFSCME Going Green for Kristin Jones for Indiana State Senate Distr
 ict 46
URL;TYPE=URI:https://www.afscme962.org/indiana-kentucky-organizing-committe
 e-962/calendar-events/afscme-going-green-kristin-jones-indiana
END:VEVENT
BEGIN:VEVENT
UID:calendar.14921.field_oa_date.0@www.afscme962.org
DTSTAMP:20240226T042444Z
CREATED:20171121T212213Z
DESCRIPTION:Council 962 Quarterly Executive Board Meeting
DTSTART;TZID=America/New_York:20171202T103000
DTEND;TZID=America/New_York:20171202T120000
LAST-MODIFIED:20171121T212318Z
LOCATION:1424 North Pennsylvania Street\n\nIndianapolis\, IN\n\n46202
SUMMARY:Executive Board Meeting
URL;TYPE=URI:https://www.afscme962.org/indiana-kentucky-organizing-committe
 e-962/calendar-events/executive-board-meeting
END:VEVENT
END:VCALENDAR
